BEGIN:VCALENDAR
VERSION:2.0
PRODID:-//eventon.com NONSGML v1.0//EN
CALSCALE:GREGORIAN
METHOD:PUBLISH
BEGIN:VEVENT
UID:69e58e64f2613
DTSTAMP:20260420T022436Z
DTSTART:20260602T095700Z
DTEND:20260605T095700Z
LOCATION:Mexico City\,  Mexico
SUMMARY:Expo Pack
DESCRIPTION:\nhttps://www.newspackaging.es/events/expo-pack/
URL:https://www.newspackaging.es/events/expo-pack/
END:VEVENT
END:VCALENDAR